BEGIN:VCALENDAR
VERSION:2.0
PRODID:-//Sint Catharina en Barbaragilde Geldrop - ECPv6.15.20//NONSGML v1.0//EN
CALSCALE:GREGORIAN
METHOD:PUBLISH
X-ORIGINAL-URL:https://www.cenbgildegeldrop.nl
X-WR-CALDESC:Evenementen voor Sint Catharina en Barbaragilde Geldrop
REFRESH-INTERVAL;VALUE=DURATION:PT1H
X-Robots-Tag:noindex
X-PUBLISHED-TTL:PT1H
BEGIN:VTIMEZONE
TZID:Europe/Amsterdam
BEGIN:DAYLIGHT
TZOFFSETFROM:+0100
TZOFFSETTO:+0200
TZNAME:CEST
DTSTART:20250330T010000
END:DAYLIGHT
BEGIN:STANDARD
TZOFFSETFROM:+0200
TZOFFSETTO:+0100
TZNAME:CET
DTSTART:20251026T010000
END:STANDARD
BEGIN:DAYLIGHT
TZOFFSETFROM:+0100
TZOFFSETTO:+0200
TZNAME:CEST
DTSTART:20260329T010000
END:DAYLIGHT
BEGIN:STANDARD
TZOFFSETFROM:+0200
TZOFFSETTO:+0100
TZNAME:CET
DTSTART:20261025T010000
END:STANDARD
BEGIN:DAYLIGHT
TZOFFSETFROM:+0100
TZOFFSETTO:+0200
TZNAME:CEST
DTSTART:20270328T010000
END:DAYLIGHT
BEGIN:STANDARD
TZOFFSETFROM:+0200
TZOFFSETTO:+0100
TZNAME:CET
DTSTART:20271031T010000
END:STANDARD
END:VTIMEZONE
BEGIN:VEVENT
DTSTART;TZID=Europe/Amsterdam:20260906T190000
DTEND;TZID=Europe/Amsterdam:20260909T190000
DTSTAMP:20260423T032258
CREATED:20260412T074325Z
LAST-MODIFIED:20260412T074325Z
UID:3492-1788721200-1788980400@www.cenbgildegeldrop.nl
SUMMARY:Kermisdagen Gilde van zaterdag t.m. woensdag
DESCRIPTION:Kermisdagen Gilde van zaterdag t.m. woensdag \nProgramma volgt
URL:https://www.cenbgildegeldrop.nl/evenement/kermisdagen-gilde-van-zaterdag-t-m-woensdag/
END:VEVENT
END:VCALENDAR