BEGIN:VCALENDAR
VERSION:2.0
PRODID:-//Sint Catharina en Barbaragilde Geldrop - ECPv6.15.20//NONSGML v1.0//EN
CALSCALE:GREGORIAN
METHOD:PUBLISH
X-WR-CALNAME:Sint Catharina en Barbaragilde Geldrop
X-ORIGINAL-URL:https://www.cenbgildegeldrop.nl
X-WR-CALDESC:Evenementen voor Sint Catharina en Barbaragilde Geldrop
REFRESH-INTERVAL;VALUE=DURATION:PT1H
X-Robots-Tag:noindex
X-PUBLISHED-TTL:PT1H
BEGIN:VTIMEZONE
TZID:Europe/Amsterdam
BEGIN:DAYLIGHT
TZOFFSETFROM:+0100
TZOFFSETTO:+0200
TZNAME:CEST
DTSTART:20250330T010000
END:DAYLIGHT
BEGIN:STANDARD
TZOFFSETFROM:+0200
TZOFFSETTO:+0100
TZNAME:CET
DTSTART:20251026T010000
END:STANDARD
BEGIN:DAYLIGHT
TZOFFSETFROM:+0100
TZOFFSETTO:+0200
TZNAME:CEST
DTSTART:20260329T010000
END:DAYLIGHT
BEGIN:STANDARD
TZOFFSETFROM:+0200
TZOFFSETTO:+0100
TZNAME:CET
DTSTART:20261025T010000
END:STANDARD
BEGIN:DAYLIGHT
TZOFFSETFROM:+0100
TZOFFSETTO:+0200
TZNAME:CEST
DTSTART:20270328T010000
END:DAYLIGHT
BEGIN:STANDARD
TZOFFSETFROM:+0200
TZOFFSETTO:+0100
TZNAME:CET
DTSTART:20271031T010000
END:STANDARD
END:VTIMEZONE
BEGIN:VEVENT
DTSTART;TZID=Europe/Amsterdam:20261011T130000
DTEND;TZID=Europe/Amsterdam:20261011T170000
DTSTAMP:20260423T063109
CREATED:20260412T075008Z
LAST-MODIFIED:20260412T075008Z
UID:3498-1791723600-1791738000@www.cenbgildegeldrop.nl
SUMMARY:Vleeswedstrijd schieten St Joris Heeze
DESCRIPTION:Vleeswedstrijd schieten St Joris Heeze \nOp eigen gelegenheid
URL:https://www.cenbgildegeldrop.nl/evenement/vleeswedstrijd-schieten-st-joris-heeze/
END:VEVENT
END:VCALENDAR