BEGIN:VCALENDAR
VERSION:2.0
PRODID:-//Sint Catharina en Barbaragilde Geldrop - ECPv6.15.20//NONSGML v1.0//EN
CALSCALE:GREGORIAN
METHOD:PUBLISH
X-WR-CALNAME:Sint Catharina en Barbaragilde Geldrop
X-ORIGINAL-URL:https://www.cenbgildegeldrop.nl
X-WR-CALDESC:Evenementen voor Sint Catharina en Barbaragilde Geldrop
REFRESH-INTERVAL;VALUE=DURATION:PT1H
X-Robots-Tag:noindex
X-PUBLISHED-TTL:PT1H
BEGIN:VTIMEZONE
TZID:Europe/Amsterdam
BEGIN:DAYLIGHT
TZOFFSETFROM:+0100
TZOFFSETTO:+0200
TZNAME:CEST
DTSTART:20240331T010000
END:DAYLIGHT
BEGIN:STANDARD
TZOFFSETFROM:+0200
TZOFFSETTO:+0100
TZNAME:CET
DTSTART:20241027T010000
END:STANDARD
BEGIN:DAYLIGHT
TZOFFSETFROM:+0100
TZOFFSETTO:+0200
TZNAME:CEST
DTSTART:20250330T010000
END:DAYLIGHT
BEGIN:STANDARD
TZOFFSETFROM:+0200
TZOFFSETTO:+0100
TZNAME:CET
DTSTART:20251026T010000
END:STANDARD
BEGIN:DAYLIGHT
TZOFFSETFROM:+0100
TZOFFSETTO:+0200
TZNAME:CEST
DTSTART:20260329T010000
END:DAYLIGHT
BEGIN:STANDARD
TZOFFSETFROM:+0200
TZOFFSETTO:+0100
TZNAME:CET
DTSTART:20261025T010000
END:STANDARD
BEGIN:DAYLIGHT
TZOFFSETFROM:+0100
TZOFFSETTO:+0200
TZNAME:CEST
DTSTART:20270328T010000
END:DAYLIGHT
BEGIN:STANDARD
TZOFFSETFROM:+0200
TZOFFSETTO:+0100
TZNAME:CET
DTSTART:20271031T010000
END:STANDARD
END:VTIMEZONE
BEGIN:VEVENT
DTSTART;TZID=Europe/Amsterdam:20260412T123000
DTEND;TZID=Europe/Amsterdam:20260412T163000
DTSTAMP:20260423T002307
CREATED:20260404T073005Z
LAST-MODIFIED:20260412T072446Z
UID:3432-1775997000-1776011400@www.cenbgildegeldrop.nl
SUMMARY:Gildezondag Gildehoek
DESCRIPTION:Gilde zondag aanvang 12.30 uur. Sluiting 16.30 uur
URL:https://www.cenbgildegeldrop.nl/evenement/gildezondag-5/
END:VEVENT
BEGIN:VEVENT
DTSTART;TZID=Europe/Amsterdam:20260320T200000
DTEND;TZID=Europe/Amsterdam:20260320T213000
DTSTAMP:20260423T002307
CREATED:20251207T094728Z
LAST-MODIFIED:20251207T094801Z
UID:3390-1774036800-1774042200@www.cenbgildegeldrop.nl
SUMMARY:Voorjaarsledenvergadering
DESCRIPTION:Voorjaarsledenvergadering Gildehoek aanvang 20.00 uur
URL:https://www.cenbgildegeldrop.nl/evenement/voorjaarsledenvergadering-2/
END:VEVENT
BEGIN:VEVENT
DTSTART;TZID=Europe/Amsterdam:20260301T123000
DTEND;TZID=Europe/Amsterdam:20260301T163000
DTSTAMP:20260423T002307
CREATED:20251207T094326Z
LAST-MODIFIED:20260412T072358Z
UID:3388-1772368200-1772382600@www.cenbgildegeldrop.nl
SUMMARY:Gilde zondag
DESCRIPTION:Gilde zondag aanvang 12.30 uur. Sluiting 16.30 uur
URL:https://www.cenbgildegeldrop.nl/evenement/gilde-zondag-25/
END:VEVENT
BEGIN:VEVENT
DTSTART;TZID=Europe/Amsterdam:20260201T123000
DTEND;TZID=Europe/Amsterdam:20260201T170000
DTSTAMP:20260423T002307
CREATED:20251207T094237Z
LAST-MODIFIED:20251218T142347Z
UID:3386-1769949000-1769965200@www.cenbgildegeldrop.nl
SUMMARY:Gildezondag
DESCRIPTION:Gilde zondag op de Gildehoek van 12.30 tot 17.00 uur
URL:https://www.cenbgildegeldrop.nl/evenement/gildezondag-4/
END:VEVENT
BEGIN:VEVENT
DTSTART;TZID=Europe/Amsterdam:20260104T123000
DTEND;TZID=Europe/Amsterdam:20260104T170000
DTSTAMP:20260423T002307
CREATED:20241216T110552Z
LAST-MODIFIED:20251218T142302Z
UID:3043-1767529800-1767546000@www.cenbgildegeldrop.nl
SUMMARY:Gilde zondag
DESCRIPTION:Gilde zondag op de Gildehoek van 12.30 tot 17.00 uur
URL:https://www.cenbgildegeldrop.nl/evenement/gilde-zondag-24/
END:VEVENT
BEGIN:VEVENT
DTSTART;TZID=Europe/Amsterdam:20251231T100000
DTEND;TZID=Europe/Amsterdam:20251231T120000
DTSTAMP:20260423T002307
CREATED:20241216T110351Z
LAST-MODIFIED:20251222T071731Z
UID:3041-1767175200-1767182400@www.cenbgildegeldrop.nl
SUMMARY:Jaarafsluiting groot uniform wijziging tijd
DESCRIPTION:Jaarafsluiting groot uniform 10.00 uur en na afloop koffie in oliebollen in de pastorie.
URL:https://www.cenbgildegeldrop.nl/evenement/jaarafsluiting-groot-uniform/
END:VEVENT
BEGIN:VEVENT
DTSTART;TZID=Europe/Amsterdam:20251220T140000
DTEND;TZID=Europe/Amsterdam:20251220T170000
DTSTAMP:20260423T002307
CREATED:20241216T110237Z
LAST-MODIFIED:20251207T093902Z
UID:3039-1766239200-1766250000@www.cenbgildegeldrop.nl
SUMMARY:Kerstviering
DESCRIPTION:Kerstviering Gildehoek aanvang 14.00 uur en sluiting 17.00 uur
URL:https://www.cenbgildegeldrop.nl/evenement/kerstviering-4/
END:VEVENT
BEGIN:VEVENT
DTSTART;TZID=Europe/Amsterdam:20251218T100000
DTEND;TZID=Europe/Amsterdam:20251218T130000
DTSTAMP:20260423T002307
CREATED:20241216T110147Z
LAST-MODIFIED:20241216T110147Z
UID:3037-1766052000-1766062800@www.cenbgildegeldrop.nl
SUMMARY:Versiering Kerst aanbrengen
DESCRIPTION:Versiering Kerst aanbrengen
URL:https://www.cenbgildegeldrop.nl/evenement/versiering-kerst-aanbrengen/
END:VEVENT
BEGIN:VEVENT
DTSTART;TZID=Europe/Amsterdam:20251207T120000
DTEND;TZID=Europe/Amsterdam:20251207T160000
DTSTAMP:20260423T002307
CREATED:20241216T110043Z
LAST-MODIFIED:20241216T110043Z
UID:3035-1765108800-1765123200@www.cenbgildegeldrop.nl
SUMMARY:Gilde zondag
DESCRIPTION:Gilde zondag op de Gildehoek van 12.00 tot 16.00 uur
URL:https://www.cenbgildegeldrop.nl/evenement/gilde-zondag-23/
END:VEVENT
BEGIN:VEVENT
DTSTART;TZID=Europe/Amsterdam:20251116T100000
DTEND;TZID=Europe/Amsterdam:20251116T170000
DTSTAMP:20260423T002307
CREATED:20241216T105826Z
LAST-MODIFIED:20241216T105925Z
UID:3033-1763287200-1763312400@www.cenbgildegeldrop.nl
SUMMARY:Naamdag
DESCRIPTION:Naamdag gegevens volgen
URL:https://www.cenbgildegeldrop.nl/evenement/naamdag-2/
END:VEVENT
BEGIN:VEVENT
DTSTART;TZID=Europe/Amsterdam:20251102T120000
DTEND;TZID=Europe/Amsterdam:20251102T160000
DTSTAMP:20260423T002307
CREATED:20241216T105732Z
LAST-MODIFIED:20241216T105732Z
UID:3031-1762084800-1762099200@www.cenbgildegeldrop.nl
SUMMARY:Gilde zondag
DESCRIPTION:Gilde zondag op de Gildehoek van 12.00 tot 16.00 uur
URL:https://www.cenbgildegeldrop.nl/evenement/gilde-zondag-22/
END:VEVENT
BEGIN:VEVENT
DTSTART;TZID=Europe/Amsterdam:20251031T200000
DTEND;TZID=Europe/Amsterdam:20251031T213000
DTSTAMP:20260423T002307
CREATED:20241216T105627Z
LAST-MODIFIED:20241216T105627Z
UID:3029-1761940800-1761946200@www.cenbgildegeldrop.nl
SUMMARY:Najaar ledenvergadering
DESCRIPTION:Najaar ledenvergadering 
URL:https://www.cenbgildegeldrop.nl/evenement/najaar-ledenvergadering-3/
END:VEVENT
BEGIN:VEVENT
DTSTART;TZID=Europe/Amsterdam:20251026T140000
DTEND;TZID=Europe/Amsterdam:20251026T170000
DTSTAMP:20260423T002307
CREATED:20251001T074539Z
LAST-MODIFIED:20251001T074852Z
UID:3323-1761487200-1761498000@www.cenbgildegeldrop.nl
SUMMARY:Tentoonstelling “Houdt de traditie in stand” – Sint Catharina en Barbaragilde Geldrop
DESCRIPTION:Tentoonstelling “Houdt de traditie in stand” – Sint Catharina en Barbaragilde Geldrop \nStap binnen in 550 jaar gildegeschiedenis en beleef de tradities die Geldrop al eeuwenlang kleuren. \nOp zondag 26 oktober van 14.00 tot 17.00 uur organiseert het Sint Catharina en Barbaragilde Geldrop een bijzondere tentoonstelling in Kasteel Geldrop (eerste etage\, oostvleugel). Bezoekers worden meegenomen door ruim vijf eeuwen historie\, van het eerste zilver van de koningsvogel uit 1525 tot en met 2024. \nCentraal staan de vele koningsschilden\, zowel op mantels als op tafels tentoongesteld\, aangevuld met herinneringsschilden\, historische foto’s en bijzondere objecten zoals het grootvaandel\, het vendeliersvaandel\, trommen\, een bazuin en een draagbaar met houten koningsvogel. Ook de statige koningsmantels zijn op bustes te bewonderen. \nHet gilde\, dat dit jaar zijn 550-jarig bestaan viert\, wil met deze tentoonstelling laten zien hoe waardevol de tradities zijn en hoe belangrijk het is deze levend te houden. De toegang is gratis en iedereen is welkom om de rijke historie van het gilde te ervaren.
URL:https://www.cenbgildegeldrop.nl/evenement/tentoonstelling-houdt-de-traditie-in-stand-sint-catharina-en-barbaragilde-geldrop/
END:VEVENT
BEGIN:VEVENT
DTSTART;TZID=Europe/Amsterdam:20251019T130000
DTEND;TZID=Europe/Amsterdam:20251019T170000
DTSTAMP:20260423T002307
CREATED:20241216T105524Z
LAST-MODIFIED:20241216T105524Z
UID:3027-1760878800-1760893200@www.cenbgildegeldrop.nl
SUMMARY:Vleeswedstrijd de Jong Schut in Leende
DESCRIPTION:Vleeswedstrijd de Jong Schut in Leende\, op eigen gelegenheid
URL:https://www.cenbgildegeldrop.nl/evenement/vleeswedstrijd-de-jong-schut-in-leende/
END:VEVENT
BEGIN:VEVENT
DTSTART;TZID=Europe/Amsterdam:20251012T130000
DTEND;TZID=Europe/Amsterdam:20251012T170000
DTSTAMP:20260423T002307
CREATED:20241216T105336Z
LAST-MODIFIED:20241216T105336Z
UID:3025-1760274000-1760288400@www.cenbgildegeldrop.nl
SUMMARY:Vleeswedstrijd st Joris Heeze
DESCRIPTION:Vleeswedstrijd st Joris Heeze\, op eigen gelegenheid
URL:https://www.cenbgildegeldrop.nl/evenement/vleeswedstrijd-st-joris-heeze/
END:VEVENT
BEGIN:VEVENT
DTSTART;TZID=Europe/Amsterdam:20250921T100000
DTEND;TZID=Europe/Amsterdam:20250921T170000
DTSTAMP:20260423T002307
CREATED:20241216T105211Z
LAST-MODIFIED:20241216T105211Z
UID:3023-1758448800-1758474000@www.cenbgildegeldrop.nl
SUMMARY:NBSF toernooi geweer gilde Sint Willibrordus uit Heeeswijk
DESCRIPTION:NBSF toernooi geweer gilde Sint Willibrordus uit Heeeswijk
URL:https://www.cenbgildegeldrop.nl/evenement/nbsf-toernooi-geweer-gilde-sint-willibrordus-uit-heeeswijk/
END:VEVENT
BEGIN:VEVENT
DTSTART;TZID=Europe/Amsterdam:20250920T133000
DTEND;TZID=Europe/Amsterdam:20250920T163000
DTSTAMP:20260423T002307
CREATED:20241216T105016Z
LAST-MODIFIED:20241216T105016Z
UID:3021-1758375000-1758385800@www.cenbgildegeldrop.nl
SUMMARY:Gilde zaterdag Gildehoek.
DESCRIPTION:Gilde zaterdag Gildehoek. Gezellig samenzijn met schieten en/of spellen. vanaf 13.30 uur tot 16.30 uur
URL:https://www.cenbgildegeldrop.nl/evenement/gilde-zaterdag-gildehoek-10/
END:VEVENT
BEGIN:VEVENT
DTSTART;TZID=Europe/Amsterdam:20250919T183000
DTEND;TZID=Europe/Amsterdam:20250919T203000
DTSTAMP:20260423T002307
CREATED:20241216T104840Z
LAST-MODIFIED:20241216T104840Z
UID:3019-1758306600-1758313800@www.cenbgildegeldrop.nl
SUMMARY:Vrijheidsvuur Venray
DESCRIPTION:Vrijheidsvuur Venray  afvaardiging van ons Gilde plusminus 18.30 tot 20.30 uur
URL:https://www.cenbgildegeldrop.nl/evenement/vrijheidsvuur-venray/
END:VEVENT
BEGIN:VEVENT
DTSTART;TZID=Europe/Amsterdam:20250910T130000
DTEND;TZID=Europe/Amsterdam:20250910T170000
DTSTAMP:20260423T002307
CREATED:20241216T104637Z
LAST-MODIFIED:20241216T104637Z
UID:3017-1757509200-1757523600@www.cenbgildegeldrop.nl
SUMMARY:Kermis woensdag met afsluiten kermis
DESCRIPTION:Kermis woensdag met afsluiten kermis  gegevens volgen
URL:https://www.cenbgildegeldrop.nl/evenement/kermis-woensdag-met-afsluiten-kermis/
END:VEVENT
BEGIN:VEVENT
DTSTART;TZID=Europe/Amsterdam:20250909T130000
DTEND;TZID=Europe/Amsterdam:20250909T170000
DTSTAMP:20260423T002307
CREATED:20241216T104511Z
LAST-MODIFIED:20241216T104511Z
UID:3015-1757422800-1757437200@www.cenbgildegeldrop.nl
SUMMARY:Kermis dinsdag
DESCRIPTION:Kermis dinsdag gegevens volgen
URL:https://www.cenbgildegeldrop.nl/evenement/kermis-dinsdag/
END:VEVENT
BEGIN:VEVENT
DTSTART;TZID=Europe/Amsterdam:20250908T100000
DTEND;TZID=Europe/Amsterdam:20250908T170000
DTSTAMP:20260423T002307
CREATED:20241216T104402Z
LAST-MODIFIED:20241216T104402Z
UID:3013-1757325600-1757350800@www.cenbgildegeldrop.nl
SUMMARY:Kermis maandag vendelgroet groot uniform
DESCRIPTION:Kermis maandag vendelgroet gemeentehuis groot uniform\, rondgang  gegevens volgen
URL:https://www.cenbgildegeldrop.nl/evenement/kermis-maandag-vendelgroet-groot-uniform/
END:VEVENT
BEGIN:VEVENT
DTSTART;TZID=Europe/Amsterdam:20250907T103000
DTEND;TZID=Europe/Amsterdam:20250907T170000
DTSTAMP:20260423T002307
CREATED:20241216T082724Z
LAST-MODIFIED:20241216T082809Z
UID:3011-1757241000-1757264400@www.cenbgildegeldrop.nl
SUMMARY:Kermis zondag Heilige mis groot uniform
DESCRIPTION:Kermis zondag Heilige mis met vendelgroet opening gegevens volgen
URL:https://www.cenbgildegeldrop.nl/evenement/kermis-zondag-heilige-mis-groot-uniform/
END:VEVENT
BEGIN:VEVENT
DTSTART;TZID=Europe/Amsterdam:20250906T190000
DTEND;TZID=Europe/Amsterdam:20250906T220000
DTSTAMP:20260423T002307
CREATED:20241216T082551Z
LAST-MODIFIED:20241216T104202Z
UID:3009-1757185200-1757196000@www.cenbgildegeldrop.nl
SUMMARY:Kermis zaterdag opening
DESCRIPTION:Kermis zaterdag opening gegevens volgen
URL:https://www.cenbgildegeldrop.nl/evenement/kermis-zaterdag-opening/
END:VEVENT
BEGIN:VEVENT
DTSTART;TZID=Europe/Amsterdam:20250827T193000
DTEND;TZID=Europe/Amsterdam:20250827T193000
DTSTAMP:20260423T002307
CREATED:20241216T082408Z
LAST-MODIFIED:20241216T082436Z
UID:3007-1756323000-1756323000@www.cenbgildegeldrop.nl
SUMMARY:Zomeravond schietcompetitie finale
DESCRIPTION:Zomeravond schietcompetitie finale\nGildehoek aanvang 19:30 uur
URL:https://www.cenbgildegeldrop.nl/evenement/zomeravond-schietcompetitie-finale/
END:VEVENT
BEGIN:VEVENT
DTSTART;TZID=Europe/Amsterdam:20250816T133000
DTEND;TZID=Europe/Amsterdam:20250816T163000
DTSTAMP:20260423T002307
CREATED:20241216T082251Z
LAST-MODIFIED:20241216T082251Z
UID:3005-1755351000-1755361800@www.cenbgildegeldrop.nl
SUMMARY:Gilde zaterdag Gildehoek
DESCRIPTION:Gilde zaterdag Gildehoek. Gezellig samenzijn met schieten en/of spellen. vanaf 13.30 uur tot 16.30 uur
URL:https://www.cenbgildegeldrop.nl/evenement/gilde-zaterdag-gildehoek-9/
END:VEVENT
BEGIN:VEVENT
DTSTART;TZID=Europe/Amsterdam:20250813T193000
DTEND;TZID=Europe/Amsterdam:20250813T210000
DTSTAMP:20260423T002307
CREATED:20241215T095015Z
LAST-MODIFIED:20241215T095025Z
UID:3003-1755113400-1755118800@www.cenbgildegeldrop.nl
SUMMARY:Zomeravond schietcompetitie inhaalavond
DESCRIPTION:Zomeravond schietcompetitie inhaalavond\nGildehoek aanvang 19:30 uur
URL:https://www.cenbgildegeldrop.nl/evenement/zomeravond-schietcompetitie-inhaalavond/
END:VEVENT
BEGIN:VEVENT
DTSTART;TZID=Europe/Amsterdam:20250803T120000
DTEND;TZID=Europe/Amsterdam:20250803T160000
DTSTAMP:20260423T002307
CREATED:20241215T094458Z
LAST-MODIFIED:20241215T094458Z
UID:2995-1754222400-1754236800@www.cenbgildegeldrop.nl
SUMMARY:Gilde zondag
DESCRIPTION:Gilde zondag op de Gildehoek van 12.00 tot 16.00 uur
URL:https://www.cenbgildegeldrop.nl/evenement/gilde-zondag-21/
END:VEVENT
BEGIN:VEVENT
DTSTART;TZID=Europe/Amsterdam:20250730T193000
DTEND;TZID=Europe/Amsterdam:20250730T210000
DTSTAMP:20260423T002307
CREATED:20241215T094823Z
LAST-MODIFIED:20241215T094823Z
UID:3001-1753903800-1753909200@www.cenbgildegeldrop.nl
SUMMARY:Zomeravond schietcompetitie 6
DESCRIPTION:Zomeravond schietcompetitie 6\nGildehoek aanvang 19:30 uur
URL:https://www.cenbgildegeldrop.nl/evenement/zomeravond-schietcompetitie-6/
END:VEVENT
BEGIN:VEVENT
DTSTART;TZID=Europe/Amsterdam:20250719T123000
DTEND;TZID=Europe/Amsterdam:20250719T163000
DTSTAMP:20260423T002307
CREATED:20241215T094612Z
LAST-MODIFIED:20241215T094612Z
UID:2997-1752928200-1752942600@www.cenbgildegeldrop.nl
SUMMARY:Gilde zaterdag Gildehoek
DESCRIPTION:Gilde zaterdag Gildehoek. Gezellig samenzijn met schieten en/of spellen. vanaf 13.30 uur tot 16.30 uur
URL:https://www.cenbgildegeldrop.nl/evenement/gilde-zaterdag-gildehoek-8/
END:VEVENT
BEGIN:VEVENT
DTSTART;TZID=Europe/Amsterdam:20250709T193000
DTEND;TZID=Europe/Amsterdam:20250709T210000
DTSTAMP:20260423T002307
CREATED:20241215T094726Z
LAST-MODIFIED:20241215T094726Z
UID:2999-1752089400-1752094800@www.cenbgildegeldrop.nl
SUMMARY:Zomeravond schietcompetitie 5
DESCRIPTION:Zomeravond schietcompetitie 5\nGildehoek aanvang 19:30 uur
URL:https://www.cenbgildegeldrop.nl/evenement/zomeravond-schietcompetitie-5/
END:VEVENT
END:VCALENDAR