BEGIN:VCALENDAR
VERSION:2.0
PRODID:-//Sint Catharina en Barbaragilde Geldrop - ECPv6.15.20//NONSGML v1.0//EN
CALSCALE:GREGORIAN
METHOD:PUBLISH
X-WR-CALNAME:Sint Catharina en Barbaragilde Geldrop
X-ORIGINAL-URL:https://www.cenbgildegeldrop.nl
X-WR-CALDESC:Evenementen voor Sint Catharina en Barbaragilde Geldrop
REFRESH-INTERVAL;VALUE=DURATION:PT1H
X-Robots-Tag:noindex
X-PUBLISHED-TTL:PT1H
BEGIN:VTIMEZONE
TZID:Europe/Amsterdam
BEGIN:DAYLIGHT
TZOFFSETFROM:+0100
TZOFFSETTO:+0200
TZNAME:CEST
DTSTART:20240331T010000
END:DAYLIGHT
BEGIN:STANDARD
TZOFFSETFROM:+0200
TZOFFSETTO:+0100
TZNAME:CET
DTSTART:20241027T010000
END:STANDARD
BEGIN:DAYLIGHT
TZOFFSETFROM:+0100
TZOFFSETTO:+0200
TZNAME:CEST
DTSTART:20250330T010000
END:DAYLIGHT
BEGIN:STANDARD
TZOFFSETFROM:+0200
TZOFFSETTO:+0100
TZNAME:CET
DTSTART:20251026T010000
END:STANDARD
BEGIN:DAYLIGHT
TZOFFSETFROM:+0100
TZOFFSETTO:+0200
TZNAME:CEST
DTSTART:20260329T010000
END:DAYLIGHT
BEGIN:STANDARD
TZOFFSETFROM:+0200
TZOFFSETTO:+0100
TZNAME:CET
DTSTART:20261025T010000
END:STANDARD
BEGIN:DAYLIGHT
TZOFFSETFROM:+0100
TZOFFSETTO:+0200
TZNAME:CEST
DTSTART:20270328T010000
END:DAYLIGHT
BEGIN:STANDARD
TZOFFSETFROM:+0200
TZOFFSETTO:+0100
TZNAME:CET
DTSTART:20271031T010000
END:STANDARD
END:VTIMEZONE
BEGIN:VEVENT
DTSTART;TZID=Europe/Amsterdam:20260802T123000
DTEND;TZID=Europe/Amsterdam:20260802T163000
DTSTAMP:20260423T122009
CREATED:20260404T073350Z
LAST-MODIFIED:20260412T072050Z
UID:3439-1785673800-1785688200@www.cenbgildegeldrop.nl
SUMMARY:Gilde zondag Gildehoek
DESCRIPTION:Gilde zondag aanvang 12.30 uur. Sluiting 16.30 uur
URL:https://www.cenbgildegeldrop.nl/evenement/gilde-zondag-gildehoek-3/
END:VEVENT
BEGIN:VEVENT
DTSTART;TZID=Europe/Amsterdam:20260718T133000
DTEND;TZID=Europe/Amsterdam:20260718T163000
DTSTAMP:20260423T122009
CREATED:20260406T100625Z
LAST-MODIFIED:20260406T100625Z
UID:3469-1784381400-1784392200@www.cenbgildegeldrop.nl
SUMMARY:Gilde zaterdag
DESCRIPTION:Gilde zaterdag aanvang 13.30 uur tot 16.30 uur  \nTijd voor kaarten\, spellen of schieten.
URL:https://www.cenbgildegeldrop.nl/evenement/gilde-zaterdag-6/
END:VEVENT
BEGIN:VEVENT
DTSTART;TZID=Europe/Amsterdam:20260705T123000
DTEND;TZID=Europe/Amsterdam:20260705T163000
DTSTAMP:20260423T122009
CREATED:20260404T073303Z
LAST-MODIFIED:20260412T072145Z
UID:3437-1783254600-1783269000@www.cenbgildegeldrop.nl
SUMMARY:Gilde zondag Gildehoek
DESCRIPTION:Gilde zondag aanvang 12.30 uur. Sluiting 16.30 uur
URL:https://www.cenbgildegeldrop.nl/evenement/gilde-zondag-gildehoek-2/
END:VEVENT
BEGIN:VEVENT
DTSTART;TZID=Europe/Amsterdam:20260701T193000
DTEND;TZID=Europe/Amsterdam:20260701T203000
DTSTAMP:20260423T122009
CREATED:20260404T080418Z
LAST-MODIFIED:20260404T080418Z
UID:3457-1782934200-1782937800@www.cenbgildegeldrop.nl
SUMMARY:Zomeravond schietcompetitie 6
DESCRIPTION:Zomeravond schietcompetitie aanvang 19.30 uur  
URL:https://www.cenbgildegeldrop.nl/evenement/zomeravond-schietcompetitie-6-2/
END:VEVENT
BEGIN:VEVENT
DTSTART;TZID=Europe/Amsterdam:20260628T093000
DTEND;TZID=Europe/Amsterdam:20260628T130000
DTSTAMP:20260423T122009
CREATED:20260406T101439Z
LAST-MODIFIED:20260406T101439Z
UID:3479-1782639000-1782651600@www.cenbgildegeldrop.nl
SUMMARY:H. mis bedevaart handel in groot uniform
DESCRIPTION:H. mis bedevaart handel in groot uniform \ngegevens volgen
URL:https://www.cenbgildegeldrop.nl/evenement/h-mis-bedevaart-handel-in-groot-uniform/
END:VEVENT
BEGIN:VEVENT
DTSTART;TZID=Europe/Amsterdam:20260617T193000
DTEND;TZID=Europe/Amsterdam:20260617T203000
DTSTAMP:20260423T122009
CREATED:20260404T080242Z
LAST-MODIFIED:20260404T080242Z
UID:3455-1781724600-1781728200@www.cenbgildegeldrop.nl
SUMMARY:Zomeravond schietcompetitie 5
DESCRIPTION:Zomeravond schietcompetitie aanvang 19.30 uur  
URL:https://www.cenbgildegeldrop.nl/evenement/zomeravond-schietcompetitie-5-2/
END:VEVENT
BEGIN:VEVENT
DTSTART;TZID=Europe/Amsterdam:20260613T130000
DTEND;TZID=Europe/Amsterdam:20260613T170000
DTSTAMP:20260423T122009
CREATED:20260406T101241Z
LAST-MODIFIED:20260406T101241Z
UID:3477-1781355600-1781370000@www.cenbgildegeldrop.nl
SUMMARY:Gemeentewisselschild schieten
DESCRIPTION:Gemeentewisselschild schieten bij sint Catharina en Barbaragilde Geldrop. \nAanvang 13.00 uur uitnodiging volgt
URL:https://www.cenbgildegeldrop.nl/evenement/gemeentewisselschild-schieten/
END:VEVENT
BEGIN:VEVENT
DTSTART;TZID=Europe/Amsterdam:20260607T113000
DTEND;TZID=Europe/Amsterdam:20260607T170000
DTSTAMP:20260423T122009
CREATED:20260406T101036Z
LAST-MODIFIED:20260406T101036Z
UID:3475-1780831800-1780851600@www.cenbgildegeldrop.nl
SUMMARY:Kringgildedag Maarheeze
DESCRIPTION:Kringgildedag Maarheeze Programma volgt
URL:https://www.cenbgildegeldrop.nl/evenement/kringgildedag-maarheeze/
END:VEVENT
BEGIN:VEVENT
DTSTART;TZID=Europe/Amsterdam:20260603T193000
DTEND;TZID=Europe/Amsterdam:20260603T203000
DTSTAMP:20260423T122009
CREATED:20260404T080045Z
LAST-MODIFIED:20260404T080045Z
UID:3453-1780515000-1780518600@www.cenbgildegeldrop.nl
SUMMARY:Zomeravond schietcompetitie 4
DESCRIPTION:Zomeravond schietcompetitie aanvang 19.30 uur  
URL:https://www.cenbgildegeldrop.nl/evenement/zomeravond-schietcompetitie-4-2/
END:VEVENT
BEGIN:VEVENT
DTSTART;TZID=Europe/Amsterdam:20260531T120000
DTEND;TZID=Europe/Amsterdam:20260531T140000
DTSTAMP:20260423T122009
CREATED:20260404T081448Z
LAST-MODIFIED:20260404T081448Z
UID:3465-1780228800-1780236000@www.cenbgildegeldrop.nl
SUMMARY:Mariamis in Den Bosch groot uniform (Let op 12.00 uur)
DESCRIPTION:Mariamis gewijzigede aanvang wegens zondag. De mis begint om 12.00 uur. \nAanwezig 12.00 uur op de parade voor een kopje koffie.
URL:https://www.cenbgildegeldrop.nl/evenement/mariamis-in-den-bosch-groot-uniform-let-op-12-00-uur/
END:VEVENT
BEGIN:VEVENT
DTSTART;TZID=Europe/Amsterdam:20260520T193000
DTEND;TZID=Europe/Amsterdam:20260520T203000
DTSTAMP:20260423T122009
CREATED:20260404T075935Z
LAST-MODIFIED:20260404T080133Z
UID:3451-1779305400-1779309000@www.cenbgildegeldrop.nl
SUMMARY:Zomeravond schietcompetitie 3
DESCRIPTION:Zomeravond schietcompetitie aanvang 19.30 uur  
URL:https://www.cenbgildegeldrop.nl/evenement/zomeravond-schietcompetitie-3-2/
END:VEVENT
BEGIN:VEVENT
DTSTART;TZID=Europe/Amsterdam:20260516T133000
DTEND;TZID=Europe/Amsterdam:20260516T163000
DTSTAMP:20260423T122009
CREATED:20260406T100523Z
LAST-MODIFIED:20260406T100523Z
UID:3467-1778938200-1778949000@www.cenbgildegeldrop.nl
SUMMARY:Gilde zaterdag
DESCRIPTION:Gilde zaterdag aanvang 13.30 uur tot 16.30 uur  \nTijd voor kaarten\, spellen of schieten.
URL:https://www.cenbgildegeldrop.nl/evenement/gilde-zaterdag-5/
END:VEVENT
BEGIN:VEVENT
DTSTART;TZID=Europe/Amsterdam:20260506T193000
DTEND;TZID=Europe/Amsterdam:20260506T203000
DTSTAMP:20260423T122009
CREATED:20260404T075905Z
LAST-MODIFIED:20260404T075905Z
UID:3449-1778095800-1778099400@www.cenbgildegeldrop.nl
SUMMARY:Zomeravond schietcompetitie 2
DESCRIPTION:Zomeravond schietcompetitie aanvang 19.30 uur  
URL:https://www.cenbgildegeldrop.nl/evenement/zomeravond-schietcompetitie-2-2/
END:VEVENT
BEGIN:VEVENT
DTSTART;TZID=Europe/Amsterdam:20260504T191500
DTEND;TZID=Europe/Amsterdam:20260504T203000
DTSTAMP:20260423T122009
CREATED:20260404T081042Z
LAST-MODIFIED:20260411T143209Z
UID:3463-1777922100-1777926600@www.cenbgildegeldrop.nl
SUMMARY:Dodenherdenking groot uniform
DESCRIPTION:Op 4 mei zal de jaarlijkse dodenherdenking plaats vinden\nZoals gebruikelijk nemen we gezamenlijk met de drie andere gilden uit Geldrop-Mierlo deel\naan de dodenherdenking.\nDeze plechtigheid zal plaatsvinden op het Brits ereveld in Mierlo.\nParkeren is op de parkeerplaats aan de Paradijslaan\, niet langs de weg.\nWe stellen gezamenlijk op om 19:15 en vertrekken dan naar het kerkhof.\nDe herdenking vangt aan om 19.45 uur.\nEr staan stoelen klaar voor de Gildebroeders zodat men niet de hele herdenking hoeft te\nstaan.\nWij verzoeken jullie in groot uniform om 19.00 uur aanwezig te zijn in de Paradijslaan op de\nparkeerplaats.\nLaten we hier evenals andere jaren ook voltallig aanwezig zijn.\nDe gildeleden gaan op de gereedstaande stoelen zitten\, de hoofdvaandeldrager gaat bij de\nandere vaandeldragers staan.\nEen kapitein zal het geheel begeleiden.
URL:https://www.cenbgildegeldrop.nl/evenement/dodenherdenking-groot-uniform-3/
END:VEVENT
BEGIN:VEVENT
DTSTART;TZID=Europe/Amsterdam:20260503T123000
DTEND;TZID=Europe/Amsterdam:20260503T163000
DTSTAMP:20260423T122009
CREATED:20260404T073125Z
LAST-MODIFIED:20260412T072239Z
UID:3434-1777811400-1777825800@www.cenbgildegeldrop.nl
SUMMARY:Gilde zondag Gildehoek
DESCRIPTION:Gilde zondag aanvang 12.30 uur. Sluiting 16.30 uur
URL:https://www.cenbgildegeldrop.nl/evenement/gilde-zondag-gildehoek/
END:VEVENT
BEGIN:VEVENT
DTSTART;TZID=Europe/Amsterdam:20260427T130000
DTEND;TZID=Europe/Amsterdam:20260427T170000
DTSTAMP:20260423T122009
CREATED:20260404T075510Z
LAST-MODIFIED:20260412T072855Z
UID:3445-1777294800-1777309200@www.cenbgildegeldrop.nl
SUMMARY:Koningsdag Gildehoek
DESCRIPTION:Op maandag 27 April zullen we de verjaardag van de Koning Willem-Alexander vieren.\nJullie worden dan ook uitgenodigd om op deze dag op het gildeterrein\nde “GildeHoek” manege Meulendijks te zijn.\nSamenkomst rond 13:00 uur\nWe zullen beginnen met een oranjekleurige drank.\nRond 14:00 uur willen we gaan schieten op zowel de wip als de puist.\nIedereen die wil kan meedoen. (Minimaal 18 jaar\, legimitatie (Idkaart\, rijbewijs) of KNTS\npas)\nHopelijk hebben we goed weer.\nRond 17:00 zullen we de dag afsluiten.
URL:https://www.cenbgildegeldrop.nl/evenement/koningsdag-4/
END:VEVENT
BEGIN:VEVENT
DTSTART;TZID=Europe/Amsterdam:20260422T193000
DTEND;TZID=Europe/Amsterdam:20260422T203000
DTSTAMP:20260423T122009
CREATED:20260404T075757Z
LAST-MODIFIED:20260404T075757Z
UID:3447-1776886200-1776889800@www.cenbgildegeldrop.nl
SUMMARY:Zomeravond schietcompetitie 1
DESCRIPTION:Zomeravond schietcompetitie aanvang 19.30 uur  
URL:https://www.cenbgildegeldrop.nl/evenement/zomeravond-schietcompetitie-1-2/
END:VEVENT
BEGIN:VEVENT
DTSTART;TZID=Europe/Amsterdam:20260412T123000
DTEND;TZID=Europe/Amsterdam:20260412T163000
DTSTAMP:20260423T122009
CREATED:20260404T073005Z
LAST-MODIFIED:20260412T072446Z
UID:3432-1775997000-1776011400@www.cenbgildegeldrop.nl
SUMMARY:Gildezondag Gildehoek
DESCRIPTION:Gilde zondag aanvang 12.30 uur. Sluiting 16.30 uur
URL:https://www.cenbgildegeldrop.nl/evenement/gildezondag-5/
END:VEVENT
BEGIN:VEVENT
DTSTART;TZID=Europe/Amsterdam:20260320T200000
DTEND;TZID=Europe/Amsterdam:20260320T213000
DTSTAMP:20260423T122009
CREATED:20251207T094728Z
LAST-MODIFIED:20251207T094801Z
UID:3390-1774036800-1774042200@www.cenbgildegeldrop.nl
SUMMARY:Voorjaarsledenvergadering
DESCRIPTION:Voorjaarsledenvergadering Gildehoek aanvang 20.00 uur
URL:https://www.cenbgildegeldrop.nl/evenement/voorjaarsledenvergadering-2/
END:VEVENT
BEGIN:VEVENT
DTSTART;TZID=Europe/Amsterdam:20260301T123000
DTEND;TZID=Europe/Amsterdam:20260301T163000
DTSTAMP:20260423T122009
CREATED:20251207T094326Z
LAST-MODIFIED:20260412T072358Z
UID:3388-1772368200-1772382600@www.cenbgildegeldrop.nl
SUMMARY:Gilde zondag
DESCRIPTION:Gilde zondag aanvang 12.30 uur. Sluiting 16.30 uur
URL:https://www.cenbgildegeldrop.nl/evenement/gilde-zondag-25/
END:VEVENT
BEGIN:VEVENT
DTSTART;TZID=Europe/Amsterdam:20260201T123000
DTEND;TZID=Europe/Amsterdam:20260201T170000
DTSTAMP:20260423T122009
CREATED:20251207T094237Z
LAST-MODIFIED:20251218T142347Z
UID:3386-1769949000-1769965200@www.cenbgildegeldrop.nl
SUMMARY:Gildezondag
DESCRIPTION:Gilde zondag op de Gildehoek van 12.30 tot 17.00 uur
URL:https://www.cenbgildegeldrop.nl/evenement/gildezondag-4/
END:VEVENT
BEGIN:VEVENT
DTSTART;TZID=Europe/Amsterdam:20260104T123000
DTEND;TZID=Europe/Amsterdam:20260104T170000
DTSTAMP:20260423T122009
CREATED:20241216T110552Z
LAST-MODIFIED:20251218T142302Z
UID:3043-1767529800-1767546000@www.cenbgildegeldrop.nl
SUMMARY:Gilde zondag
DESCRIPTION:Gilde zondag op de Gildehoek van 12.30 tot 17.00 uur
URL:https://www.cenbgildegeldrop.nl/evenement/gilde-zondag-24/
END:VEVENT
BEGIN:VEVENT
DTSTART;TZID=Europe/Amsterdam:20251231T100000
DTEND;TZID=Europe/Amsterdam:20251231T120000
DTSTAMP:20260423T122009
CREATED:20241216T110351Z
LAST-MODIFIED:20251222T071731Z
UID:3041-1767175200-1767182400@www.cenbgildegeldrop.nl
SUMMARY:Jaarafsluiting groot uniform wijziging tijd
DESCRIPTION:Jaarafsluiting groot uniform 10.00 uur en na afloop koffie in oliebollen in de pastorie.
URL:https://www.cenbgildegeldrop.nl/evenement/jaarafsluiting-groot-uniform/
END:VEVENT
BEGIN:VEVENT
DTSTART;TZID=Europe/Amsterdam:20251220T140000
DTEND;TZID=Europe/Amsterdam:20251220T170000
DTSTAMP:20260423T122009
CREATED:20241216T110237Z
LAST-MODIFIED:20251207T093902Z
UID:3039-1766239200-1766250000@www.cenbgildegeldrop.nl
SUMMARY:Kerstviering
DESCRIPTION:Kerstviering Gildehoek aanvang 14.00 uur en sluiting 17.00 uur
URL:https://www.cenbgildegeldrop.nl/evenement/kerstviering-4/
END:VEVENT
BEGIN:VEVENT
DTSTART;TZID=Europe/Amsterdam:20251218T100000
DTEND;TZID=Europe/Amsterdam:20251218T130000
DTSTAMP:20260423T122009
CREATED:20241216T110147Z
LAST-MODIFIED:20241216T110147Z
UID:3037-1766052000-1766062800@www.cenbgildegeldrop.nl
SUMMARY:Versiering Kerst aanbrengen
DESCRIPTION:Versiering Kerst aanbrengen
URL:https://www.cenbgildegeldrop.nl/evenement/versiering-kerst-aanbrengen/
END:VEVENT
BEGIN:VEVENT
DTSTART;TZID=Europe/Amsterdam:20251207T120000
DTEND;TZID=Europe/Amsterdam:20251207T160000
DTSTAMP:20260423T122009
CREATED:20241216T110043Z
LAST-MODIFIED:20241216T110043Z
UID:3035-1765108800-1765123200@www.cenbgildegeldrop.nl
SUMMARY:Gilde zondag
DESCRIPTION:Gilde zondag op de Gildehoek van 12.00 tot 16.00 uur
URL:https://www.cenbgildegeldrop.nl/evenement/gilde-zondag-23/
END:VEVENT
BEGIN:VEVENT
DTSTART;TZID=Europe/Amsterdam:20251116T100000
DTEND;TZID=Europe/Amsterdam:20251116T170000
DTSTAMP:20260423T122009
CREATED:20241216T105826Z
LAST-MODIFIED:20241216T105925Z
UID:3033-1763287200-1763312400@www.cenbgildegeldrop.nl
SUMMARY:Naamdag
DESCRIPTION:Naamdag gegevens volgen
URL:https://www.cenbgildegeldrop.nl/evenement/naamdag-2/
END:VEVENT
BEGIN:VEVENT
DTSTART;TZID=Europe/Amsterdam:20251102T120000
DTEND;TZID=Europe/Amsterdam:20251102T160000
DTSTAMP:20260423T122009
CREATED:20241216T105732Z
LAST-MODIFIED:20241216T105732Z
UID:3031-1762084800-1762099200@www.cenbgildegeldrop.nl
SUMMARY:Gilde zondag
DESCRIPTION:Gilde zondag op de Gildehoek van 12.00 tot 16.00 uur
URL:https://www.cenbgildegeldrop.nl/evenement/gilde-zondag-22/
END:VEVENT
BEGIN:VEVENT
DTSTART;TZID=Europe/Amsterdam:20251031T200000
DTEND;TZID=Europe/Amsterdam:20251031T213000
DTSTAMP:20260423T122009
CREATED:20241216T105627Z
LAST-MODIFIED:20241216T105627Z
UID:3029-1761940800-1761946200@www.cenbgildegeldrop.nl
SUMMARY:Najaar ledenvergadering
DESCRIPTION:Najaar ledenvergadering 
URL:https://www.cenbgildegeldrop.nl/evenement/najaar-ledenvergadering-3/
END:VEVENT
BEGIN:VEVENT
DTSTART;TZID=Europe/Amsterdam:20251026T140000
DTEND;TZID=Europe/Amsterdam:20251026T170000
DTSTAMP:20260423T122009
CREATED:20251001T074539Z
LAST-MODIFIED:20251001T074852Z
UID:3323-1761487200-1761498000@www.cenbgildegeldrop.nl
SUMMARY:Tentoonstelling “Houdt de traditie in stand” – Sint Catharina en Barbaragilde Geldrop
DESCRIPTION:Tentoonstelling “Houdt de traditie in stand” – Sint Catharina en Barbaragilde Geldrop \nStap binnen in 550 jaar gildegeschiedenis en beleef de tradities die Geldrop al eeuwenlang kleuren. \nOp zondag 26 oktober van 14.00 tot 17.00 uur organiseert het Sint Catharina en Barbaragilde Geldrop een bijzondere tentoonstelling in Kasteel Geldrop (eerste etage\, oostvleugel). Bezoekers worden meegenomen door ruim vijf eeuwen historie\, van het eerste zilver van de koningsvogel uit 1525 tot en met 2024. \nCentraal staan de vele koningsschilden\, zowel op mantels als op tafels tentoongesteld\, aangevuld met herinneringsschilden\, historische foto’s en bijzondere objecten zoals het grootvaandel\, het vendeliersvaandel\, trommen\, een bazuin en een draagbaar met houten koningsvogel. Ook de statige koningsmantels zijn op bustes te bewonderen. \nHet gilde\, dat dit jaar zijn 550-jarig bestaan viert\, wil met deze tentoonstelling laten zien hoe waardevol de tradities zijn en hoe belangrijk het is deze levend te houden. De toegang is gratis en iedereen is welkom om de rijke historie van het gilde te ervaren.
URL:https://www.cenbgildegeldrop.nl/evenement/tentoonstelling-houdt-de-traditie-in-stand-sint-catharina-en-barbaragilde-geldrop/
END:VEVENT
END:VCALENDAR