BEGIN:VCALENDAR
VERSION:2.0
PRODID:-//Sint Catharina en Barbaragilde Geldrop - ECPv6.15.20//NONSGML v1.0//EN
CALSCALE:GREGORIAN
METHOD:PUBLISH
X-ORIGINAL-URL:https://www.cenbgildegeldrop.nl
X-WR-CALDESC:Evenementen voor Sint Catharina en Barbaragilde Geldrop
REFRESH-INTERVAL;VALUE=DURATION:PT1H
X-Robots-Tag:noindex
X-PUBLISHED-TTL:PT1H
BEGIN:VTIMEZONE
TZID:Europe/Amsterdam
BEGIN:DAYLIGHT
TZOFFSETFROM:+0100
TZOFFSETTO:+0200
TZNAME:CEST
DTSTART:20250330T010000
END:DAYLIGHT
BEGIN:STANDARD
TZOFFSETFROM:+0200
TZOFFSETTO:+0100
TZNAME:CET
DTSTART:20251026T010000
END:STANDARD
BEGIN:DAYLIGHT
TZOFFSETFROM:+0100
TZOFFSETTO:+0200
TZNAME:CEST
DTSTART:20260329T010000
END:DAYLIGHT
BEGIN:STANDARD
TZOFFSETFROM:+0200
TZOFFSETTO:+0100
TZNAME:CET
DTSTART:20261025T010000
END:STANDARD
BEGIN:DAYLIGHT
TZOFFSETFROM:+0100
TZOFFSETTO:+0200
TZNAME:CEST
DTSTART:20270328T010000
END:DAYLIGHT
BEGIN:STANDARD
TZOFFSETFROM:+0200
TZOFFSETTO:+0100
TZNAME:CET
DTSTART:20271031T010000
END:STANDARD
END:VTIMEZONE
BEGIN:VEVENT
DTSTART;TZID=Europe/Amsterdam:20261114T120000
DTEND;TZID=Europe/Amsterdam:20261114T170000
DTSTAMP:20260423T135700
CREATED:20260412T075433Z
LAST-MODIFIED:20260412T075433Z
UID:3504-1794657600-1794675600@www.cenbgildegeldrop.nl
SUMMARY:Naamdag zaterdag
DESCRIPTION:Naamdag zaterdag  \ngegevens volgen
URL:https://www.cenbgildegeldrop.nl/evenement/naamdag-zaterdag/
END:VEVENT
BEGIN:VEVENT
DTSTART;TZID=Europe/Amsterdam:20261213T123000
DTEND;TZID=Europe/Amsterdam:20261213T163000
DTSTAMP:20260423T135700
CREATED:20260404T073630Z
LAST-MODIFIED:20260412T072021Z
UID:3443-1797165000-1797179400@www.cenbgildegeldrop.nl
SUMMARY:Gilde zondag Gildehoek
DESCRIPTION:Gilde zondag aanvang 12.30 uur. Sluiting 16.30 uur
URL:https://www.cenbgildegeldrop.nl/evenement/gilde-zondag-gildehoek-5/
END:VEVENT
BEGIN:VEVENT
DTSTART;TZID=Europe/Amsterdam:20261218T093000
DTEND;TZID=Europe/Amsterdam:20261218T170000
DTSTAMP:20260423T135700
CREATED:20260412T075606Z
LAST-MODIFIED:20260412T075606Z
UID:3506-1797586200-1797613200@www.cenbgildegeldrop.nl
SUMMARY:Kerstversiering aanbrengen Gildehoek
DESCRIPTION:Kerstversiering aanbrengen Gildehoek \n  \naanvang 9.30 uur
URL:https://www.cenbgildegeldrop.nl/evenement/kerstversiering-aanbrengen-gildehoek-3/
END:VEVENT
BEGIN:VEVENT
DTSTART;TZID=Europe/Amsterdam:20261219T140000
DTEND;TZID=Europe/Amsterdam:20261219T170000
DTSTAMP:20260423T135700
CREATED:20260412T075729Z
LAST-MODIFIED:20260412T075729Z
UID:3508-1797688800-1797699600@www.cenbgildegeldrop.nl
SUMMARY:Kerstviering Gildehoek
DESCRIPTION:Kerstviering Gildehoek \naanvang 14.00 uur
URL:https://www.cenbgildegeldrop.nl/evenement/kerstviering-gildehoek/
END:VEVENT
BEGIN:VEVENT
DTSTART;TZID=Europe/Amsterdam:20261231T180000
DTEND;TZID=Europe/Amsterdam:20261231T190000
DTSTAMP:20260423T135700
CREATED:20260412T075913Z
LAST-MODIFIED:20260412T075913Z
UID:3510-1798740000-1798743600@www.cenbgildegeldrop.nl
SUMMARY:Jaarafsluiting in de H. Brigidakerk centrum  groot uniform
DESCRIPTION:Jaarafsluiting in de H. Brigidakerk centrum groot uniform \ngegevens volgen
URL:https://www.cenbgildegeldrop.nl/evenement/jaarafsluiting-in-de-h-brigidakerk-centrum-groot-uniform/
END:VEVENT
END:VCALENDAR