BEGIN:VCALENDAR
VERSION:2.0
PRODID:-//Sint Catharina en Barbaragilde Geldrop - ECPv6.15.20//NONSGML v1.0//EN
CALSCALE:GREGORIAN
METHOD:PUBLISH
X-WR-CALNAME:Sint Catharina en Barbaragilde Geldrop
X-ORIGINAL-URL:https://www.cenbgildegeldrop.nl
X-WR-CALDESC:Evenementen voor Sint Catharina en Barbaragilde Geldrop
REFRESH-INTERVAL;VALUE=DURATION:PT1H
X-Robots-Tag:noindex
X-PUBLISHED-TTL:PT1H
BEGIN:VTIMEZONE
TZID:Europe/Amsterdam
BEGIN:DAYLIGHT
TZOFFSETFROM:+0100
TZOFFSETTO:+0200
TZNAME:CEST
DTSTART:20220327T010000
END:DAYLIGHT
BEGIN:STANDARD
TZOFFSETFROM:+0200
TZOFFSETTO:+0100
TZNAME:CET
DTSTART:20221030T010000
END:STANDARD
BEGIN:DAYLIGHT
TZOFFSETFROM:+0100
TZOFFSETTO:+0200
TZNAME:CEST
DTSTART:20230326T010000
END:DAYLIGHT
BEGIN:STANDARD
TZOFFSETFROM:+0200
TZOFFSETTO:+0100
TZNAME:CET
DTSTART:20231029T010000
END:STANDARD
BEGIN:DAYLIGHT
TZOFFSETFROM:+0100
TZOFFSETTO:+0200
TZNAME:CEST
DTSTART:20240331T010000
END:DAYLIGHT
BEGIN:STANDARD
TZOFFSETFROM:+0200
TZOFFSETTO:+0100
TZNAME:CET
DTSTART:20241027T010000
END:STANDARD
END:VTIMEZONE
BEGIN:VEVENT
DTSTART;TZID=Europe/Amsterdam:20231203T120000
DTEND;TZID=Europe/Amsterdam:20231203T153000
DTSTAMP:20260423T034131
CREATED:20230117T151611Z
LAST-MODIFIED:20230117T151611Z
UID:2232-1701604800-1701617400@www.cenbgildegeldrop.nl
SUMMARY:Gilde Zondag
DESCRIPTION:Gilde zondag op de Gildehoek van 12.00 tm 15.30 uur
URL:https://www.cenbgildegeldrop.nl/evenement/gilde-zondag-14/
END:VEVENT
BEGIN:VEVENT
DTSTART;TZID=Europe/Amsterdam:20231118T130000
DTEND;TZID=Europe/Amsterdam:20231118T170000
DTSTAMP:20260423T034131
CREATED:20230319T093114Z
LAST-MODIFIED:20230319T093114Z
UID:2299-1700312400-1700326800@www.cenbgildegeldrop.nl
SUMMARY:Naamdag op de Gildehoek
DESCRIPTION:Naamdag op de Gildehoek gegevens volgen
URL:https://www.cenbgildegeldrop.nl/evenement/naamdag-op-de-gildehoek/
END:VEVENT
BEGIN:VEVENT
DTSTART;TZID=Europe/Amsterdam:20231117T193000
DTEND;TZID=Europe/Amsterdam:20231117T213000
DTSTAMP:20260423T034131
CREATED:20230319T092911Z
LAST-MODIFIED:20231101T071654Z
UID:2297-1700249400-1700256600@www.cenbgildegeldrop.nl
SUMMARY:Ledenvergadering najaar
DESCRIPTION:Ledenvergadering najaar
URL:https://www.cenbgildegeldrop.nl/evenement/ledenvergadering-najaar/
END:VEVENT
BEGIN:VEVENT
DTSTART;TZID=Europe/Amsterdam:20231105T120000
DTEND;TZID=Europe/Amsterdam:20231105T153000
DTSTAMP:20260423T034131
CREATED:20230117T151315Z
LAST-MODIFIED:20230117T151315Z
UID:2230-1699185600-1699198200@www.cenbgildegeldrop.nl
SUMMARY:Gilde Zondag
DESCRIPTION:Gilde zondag op de Gildehoek van 12.00 tm 15.30 uur
URL:https://www.cenbgildegeldrop.nl/evenement/gilde-zondag-6/
END:VEVENT
BEGIN:VEVENT
DTSTART;VALUE=DATE:20230906
DTEND;VALUE=DATE:20230907
DTSTAMP:20260423T034131
CREATED:20230319T092151Z
LAST-MODIFIED:20230319T092254Z
UID:2289-1693958400-1694044799@www.cenbgildegeldrop.nl
SUMMARY:Kermiswoensdag sluiting Kermis
DESCRIPTION:Kermiswoensdag sluiting Kermis programma volgt
URL:https://www.cenbgildegeldrop.nl/evenement/2289/
END:VEVENT
BEGIN:VEVENT
DTSTART;VALUE=DATE:20230905
DTEND;VALUE=DATE:20230906
DTSTAMP:20260423T034131
CREATED:20230319T092050Z
LAST-MODIFIED:20230319T092050Z
UID:2287-1693872000-1693958399@www.cenbgildegeldrop.nl
SUMMARY:Kermisdinsdag
DESCRIPTION:Kermisdinsdag programma volgt
URL:https://www.cenbgildegeldrop.nl/evenement/kermisdinsdag/
END:VEVENT
BEGIN:VEVENT
DTSTART;VALUE=DATE:20230904
DTEND;VALUE=DATE:20230905
DTSTAMP:20260423T034131
CREATED:20230319T091945Z
LAST-MODIFIED:20230319T092224Z
UID:2285-1693785600-1693871999@www.cenbgildegeldrop.nl
SUMMARY:Kermismaandag rondgang
DESCRIPTION:Kermismaandag rondgang programma volgt
URL:https://www.cenbgildegeldrop.nl/evenement/2285/
END:VEVENT
BEGIN:VEVENT
DTSTART;VALUE=DATE:20230902
DTEND;VALUE=DATE:20230903
DTSTAMP:20260423T034131
CREATED:20230319T091849Z
LAST-MODIFIED:20230319T091849Z
UID:2283-1693612800-1693699199@www.cenbgildegeldrop.nl
SUMMARY:Kermiszaterdag Opening Kermis
DESCRIPTION:Kermiszaterdag Opening Kermis programma volgt
URL:https://www.cenbgildegeldrop.nl/evenement/kermiszaterdag-opening-kermis/
END:VEVENT
BEGIN:VEVENT
DTSTART;TZID=Europe/Amsterdam:20230817T193000
DTEND;TZID=Europe/Amsterdam:20230817T213000
DTSTAMP:20260423T034131
CREATED:20230319T091233Z
LAST-MODIFIED:20230319T091233Z
UID:2281-1692300600-1692307800@www.cenbgildegeldrop.nl
SUMMARY:Schietcompetitie donderdagavond FINALE
DESCRIPTION:Schietcompetitie donderdagavond FINALE \nAanvang 19.30 aanwezig 19.15 over klaarzetten enz.
URL:https://www.cenbgildegeldrop.nl/evenement/schietcompetitie-donderdagavond-finale/
END:VEVENT
BEGIN:VEVENT
DTSTART;TZID=Europe/Amsterdam:20230806T120000
DTEND;TZID=Europe/Amsterdam:20230806T153000
DTSTAMP:20260423T034131
CREATED:20230117T151214Z
LAST-MODIFIED:20230117T151214Z
UID:2228-1691323200-1691335800@www.cenbgildegeldrop.nl
SUMMARY:Gilde Zondag
DESCRIPTION:Gilde zondag op de Gildehoek van 12.00 tm 15.30 uur
URL:https://www.cenbgildegeldrop.nl/evenement/gilde-zondag-5/
END:VEVENT
BEGIN:VEVENT
DTSTART;TZID=Europe/Amsterdam:20230803T193000
DTEND;TZID=Europe/Amsterdam:20230803T210000
DTSTAMP:20260423T034131
CREATED:20230319T091108Z
LAST-MODIFIED:20230706T081416Z
UID:2279-1691091000-1691096400@www.cenbgildegeldrop.nl
SUMMARY:Schietcompetitie donderdagavond (inhaalavond)
DESCRIPTION:Schietcompetitie donderdagavond (inhaalavond) \nAanvang 19.30 aanwezig 19.15 over klaarzetten enz.
URL:https://www.cenbgildegeldrop.nl/evenement/schietcompetitie-donderdagavond-inhaalavond/
END:VEVENT
BEGIN:VEVENT
DTSTART;TZID=Europe/Amsterdam:20230720T193000
DTEND;TZID=Europe/Amsterdam:20230720T213000
DTSTAMP:20260423T034131
CREATED:20230319T090949Z
LAST-MODIFIED:20230319T090949Z
UID:2277-1689881400-1689888600@www.cenbgildegeldrop.nl
SUMMARY:Schietcompetitie donderdagavond 6
DESCRIPTION:Schietcompetitie donderdagavond 6 \nAanvang 19.30 aanwezig 19.15 over klaarzetten enz.
URL:https://www.cenbgildegeldrop.nl/evenement/schietcompetitie-donderdagavond-6/
END:VEVENT
BEGIN:VEVENT
DTSTART;TZID=Europe/Amsterdam:20230706T193000
DTEND;TZID=Europe/Amsterdam:20230706T213000
DTSTAMP:20260423T034131
CREATED:20230319T090848Z
LAST-MODIFIED:20230319T090848Z
UID:2275-1688671800-1688679000@www.cenbgildegeldrop.nl
SUMMARY:Schietcompetitie donderdagavond 5
DESCRIPTION:Schietcompetitie donderdagavond 5 \nAanvang 19.30 aanwezig 19.15 over klaarzetten enz.
URL:https://www.cenbgildegeldrop.nl/evenement/schietcompetitie-donderdagavond-5/
END:VEVENT
BEGIN:VEVENT
DTSTART;TZID=Europe/Amsterdam:20230702T120000
DTEND;TZID=Europe/Amsterdam:20230702T153000
DTSTAMP:20260423T034131
CREATED:20230117T151044Z
LAST-MODIFIED:20230117T151044Z
UID:2226-1688299200-1688311800@www.cenbgildegeldrop.nl
SUMMARY:Gildezondag
DESCRIPTION:Gilde zondag op de Gildehoek van 12.00 tm 15.30 uur
URL:https://www.cenbgildegeldrop.nl/evenement/gildezondag/
END:VEVENT
BEGIN:VEVENT
DTSTART;TZID=Europe/Amsterdam:20230622T193000
DTEND;TZID=Europe/Amsterdam:20230622T213000
DTSTAMP:20260423T034131
CREATED:20230319T090728Z
LAST-MODIFIED:20230319T091341Z
UID:2273-1687462200-1687469400@www.cenbgildegeldrop.nl
SUMMARY:Schietcompetitie donderdagavond 4
DESCRIPTION:Schietcompetitie donderdagavond 4 \nAanvang 19.30 aanwezig 19.15 over klaarzetten enz.
URL:https://www.cenbgildegeldrop.nl/evenement/schietcompetitie-donderdagavond-4/
END:VEVENT
BEGIN:VEVENT
DTSTART;TZID=Europe/Amsterdam:20230617T093000
DTEND;TZID=Europe/Amsterdam:20230617T170000
DTSTAMP:20260423T034131
CREATED:20230531T075508Z
LAST-MODIFIED:20230531T075508Z
UID:2310-1686994200-1687021200@www.cenbgildegeldrop.nl
SUMMARY:Excursie Boerenbondmuseum Gemert
DESCRIPTION:Excursie Boerenbondmuseum Gemert \nVertrek vanaf Geldrop\, parkeerterrein de Meent om 09.45 uur \nAfsluiting tussen 16.00 en 17.00 uur
URL:https://www.cenbgildegeldrop.nl/evenement/excursie-boerenbondmuseum-gemert/
END:VEVENT
BEGIN:VEVENT
DTSTART;TZID=Europe/Amsterdam:20230610T140000
DTEND;TZID=Europe/Amsterdam:20230610T170000
DTSTAMP:20260423T034131
CREATED:20230531T102351Z
LAST-MODIFIED:20230531T102351Z
UID:2312-1686405600-1686416400@www.cenbgildegeldrop.nl
SUMMARY:Schietwedstrijd Wisselschild Gemeente Geldrop
DESCRIPTION:Uitnodiging wisselschildschieten. Geldrop\, 31 Mei 2023\nBeste gildebroeders\nHet wisselschild schieten wordt dit jaar georganiseerd door Sint Catharina en Sint Barbara\nGilde Mierlo.\nDe wedstrijden beginnen om 14:00 uur en om +/- 17:00 uur is de sluiting.\nDit is met het kleine uniform.\nEr wordt met het geweer geschoten.\nKomt allen.\nOns gilde wenst u allen een prettige middag toe.\nPlaats:\nSINT CATHARINA en SINT BARBARA GILDE\nGildehuis\, Oudvensestraat 9 b\, Mierlo \nMet hartelijke gildegroet\,\nCarel Ceelen\nDekenschrijver\nPS. Vergeet niet Uw KNSA-\, KNTS-licentie of identiteit bewijs mee te nemen i.v.m. de\nwettelijke eisen geweerschieten.
URL:https://www.cenbgildegeldrop.nl/evenement/schietwedstrijd-wisselschild-gemeente-geldrop/
END:VEVENT
BEGIN:VEVENT
DTSTART;TZID=Europe/Amsterdam:20230608T193000
DTEND;TZID=Europe/Amsterdam:20230608T213000
DTSTAMP:20260423T034131
CREATED:20230319T090648Z
LAST-MODIFIED:20230319T090648Z
UID:2271-1686252600-1686259800@www.cenbgildegeldrop.nl
SUMMARY:Schietcompetitie donderdagavond 3
DESCRIPTION:Schietcompetitie donderdagavond 3 \nAanvang 19.30 aanwezig 19.15 over klaarzetten enz.
URL:https://www.cenbgildegeldrop.nl/evenement/schietcompetitie-donderdagavond-3/
END:VEVENT
BEGIN:VEVENT
DTSTART;TZID=Europe/Amsterdam:20230604T120000
DTEND;TZID=Europe/Amsterdam:20230604T170000
DTSTAMP:20260423T034131
CREATED:20230117T154600Z
LAST-MODIFIED:20230117T154600Z
UID:2244-1685880000-1685898000@www.cenbgildegeldrop.nl
SUMMARY:Kringdag Eersel groot uniform
DESCRIPTION:Kringdag Sint Catharina en Sint Barbaragilde Eersel   ongeveer 12.00 uur programma volgt
URL:https://www.cenbgildegeldrop.nl/evenement/kringdag-eersel-groot-uniform/
END:VEVENT
BEGIN:VEVENT
DTSTART;TZID=Europe/Amsterdam:20230531T183000
DTEND;TZID=Europe/Amsterdam:20230531T200000
DTSTAMP:20260423T034131
CREATED:20230117T154410Z
LAST-MODIFIED:20230117T154410Z
UID:2242-1685557800-1685563200@www.cenbgildegeldrop.nl
SUMMARY:Maria mis Den Bosch groot uniform
DESCRIPTION:Maria mis Den Bosch groot uniform  ongeveer 18.30 uur in Den Bosch
URL:https://www.cenbgildegeldrop.nl/evenement/maria-mis-den-bosch-groot-uniform/
END:VEVENT
BEGIN:VEVENT
DTSTART;TZID=Europe/Amsterdam:20230525T193000
DTEND;TZID=Europe/Amsterdam:20230525T213000
DTSTAMP:20260423T034131
CREATED:20230319T090247Z
LAST-MODIFIED:20230319T090247Z
UID:2269-1685043000-1685050200@www.cenbgildegeldrop.nl
SUMMARY:Schietcompetitie donderdagavond 2
DESCRIPTION:Schietcompetitie donderdagavond 2 \nAanvang 19.30 aanwezig 19.15 over klaarzetten enz.
URL:https://www.cenbgildegeldrop.nl/evenement/schietcompetitie-donderdagavond-2/
END:VEVENT
BEGIN:VEVENT
DTSTART;TZID=Europe/Amsterdam:20230511T193000
DTEND;TZID=Europe/Amsterdam:20230511T213000
DTSTAMP:20260423T034131
CREATED:20230319T090138Z
LAST-MODIFIED:20230319T090138Z
UID:2267-1683833400-1683840600@www.cenbgildegeldrop.nl
SUMMARY:Schietcompetitie donderdagavond 1
DESCRIPTION:Schietcompetitie donderdagavond 1 \nAanvang 19.30 aanwezig 19.15 over klaarzetten enz.
URL:https://www.cenbgildegeldrop.nl/evenement/schietcompetitie-donderdagavond-1/
END:VEVENT
BEGIN:VEVENT
DTSTART;TZID=Europe/Amsterdam:20230507T120000
DTEND;TZID=Europe/Amsterdam:20230507T153000
DTSTAMP:20260423T034131
CREATED:20230117T150944Z
LAST-MODIFIED:20230117T150944Z
UID:2224-1683460800-1683473400@www.cenbgildegeldrop.nl
SUMMARY:Gildezondag met ontvangst Bedevaart Ommel
DESCRIPTION:Gilde zondag op de Gildehoek van 12.00 tm 15.30 uur \nOntvangst Bedevaart Ommel
URL:https://www.cenbgildegeldrop.nl/evenement/gildezondag-met-ontvangst-bedevaart-ommel/
END:VEVENT
BEGIN:VEVENT
DTSTART;TZID=Europe/Amsterdam:20230504T190000
DTEND;TZID=Europe/Amsterdam:20230504T210000
DTSTAMP:20260423T034131
CREATED:20230117T153415Z
LAST-MODIFIED:20230117T153415Z
UID:2240-1683226800-1683234000@www.cenbgildegeldrop.nl
SUMMARY:Dodenherdenking groot uniform
DESCRIPTION:Dodenherdenking ongeveer 19.00 uur Brits Ereveld Mierlo
URL:https://www.cenbgildegeldrop.nl/evenement/dodenherdenking-groot-uniform/
END:VEVENT
BEGIN:VEVENT
DTSTART;TZID=Europe/Amsterdam:20230427T130000
DTEND;TZID=Europe/Amsterdam:20230427T170000
DTSTAMP:20260423T034131
CREATED:20230117T153219Z
LAST-MODIFIED:20230117T153219Z
UID:2238-1682600400-1682614800@www.cenbgildegeldrop.nl
SUMMARY:Koningsdag
DESCRIPTION:Koningsdag  Gildehoek aanvang 13.00 uur programma volgt.
URL:https://www.cenbgildegeldrop.nl/evenement/koningsdag/
END:VEVENT
BEGIN:VEVENT
DTSTART;TZID=Europe/Amsterdam:20230416T120000
DTEND;TZID=Europe/Amsterdam:20230416T170000
DTSTAMP:20260423T034131
CREATED:20230117T153054Z
LAST-MODIFIED:20230117T153054Z
UID:2236-1681646400-1681664400@www.cenbgildegeldrop.nl
SUMMARY:Fietstocht
DESCRIPTION:Fietstocht \nOrganisatie de evenementencommissie \ngegevens volgen
URL:https://www.cenbgildegeldrop.nl/evenement/fietstocht/
END:VEVENT
BEGIN:VEVENT
DTSTART;TZID=Europe/Amsterdam:20230402T120000
DTEND;TZID=Europe/Amsterdam:20230402T153000
DTSTAMP:20260423T034131
CREATED:20230117T150735Z
LAST-MODIFIED:20230117T150735Z
UID:2222-1680436800-1680449400@www.cenbgildegeldrop.nl
SUMMARY:Gilde Zondag
DESCRIPTION:Gilde zondag op de Gildehoek van 12.00 tm 15.30 uur
URL:https://www.cenbgildegeldrop.nl/evenement/gilde-zondag-4/
END:VEVENT
BEGIN:VEVENT
DTSTART;TZID=Europe/Amsterdam:20230318T120000
DTEND;TZID=Europe/Amsterdam:20230318T170000
DTSTAMP:20260423T034131
CREATED:20221123T152753Z
LAST-MODIFIED:20230319T083846Z
UID:2187-1679140800-1679158800@www.cenbgildegeldrop.nl
SUMMARY:Gildewandeling wordt verplaatst naar 18 maart
DESCRIPTION:Wandeling valt samen met carnaval \nOrganisatie de evenementencommissie \nWordt verplaatst gegevens volgen
URL:https://www.cenbgildegeldrop.nl/evenement/wandeling/
END:VEVENT
BEGIN:VEVENT
DTSTART;TZID=Europe/Amsterdam:20230310T200000
DTEND;TZID=Europe/Amsterdam:20230310T220000
DTSTAMP:20260423T034131
CREATED:20230117T152918Z
LAST-MODIFIED:20230117T152918Z
UID:2234-1678478400-1678485600@www.cenbgildegeldrop.nl
SUMMARY:Voorjaars ledenvergadering
DESCRIPTION:Voorjaarsledenvergadering Gildehoek nanvang 20.00 uur
URL:https://www.cenbgildegeldrop.nl/evenement/voorjaars-ledenvergadering/
END:VEVENT
BEGIN:VEVENT
DTSTART;TZID=Europe/Amsterdam:20230305T120000
DTEND;TZID=Europe/Amsterdam:20230305T153000
DTSTAMP:20260423T034131
CREATED:20230117T150632Z
LAST-MODIFIED:20230117T150632Z
UID:2220-1678017600-1678030200@www.cenbgildegeldrop.nl
SUMMARY:Gilde Zondag
DESCRIPTION:Gilde zondag op de Gildehoek van 12.00 tm 15.30 uur
URL:https://www.cenbgildegeldrop.nl/evenement/gilde-zondag-3/
END:VEVENT
END:VCALENDAR