BEGIN:VCALENDAR
VERSION:2.0
PRODID:-//Sint Catharina en Barbaragilde Geldrop - ECPv6.15.20//NONSGML v1.0//EN
CALSCALE:GREGORIAN
METHOD:PUBLISH
X-WR-CALNAME:Sint Catharina en Barbaragilde Geldrop
X-ORIGINAL-URL:https://www.cenbgildegeldrop.nl
X-WR-CALDESC:Evenementen voor Sint Catharina en Barbaragilde Geldrop
REFRESH-INTERVAL;VALUE=DURATION:PT1H
X-Robots-Tag:noindex
X-PUBLISHED-TTL:PT1H
BEGIN:VTIMEZONE
TZID:Europe/Amsterdam
BEGIN:DAYLIGHT
TZOFFSETFROM:+0100
TZOFFSETTO:+0200
TZNAME:CEST
DTSTART:20220327T010000
END:DAYLIGHT
BEGIN:STANDARD
TZOFFSETFROM:+0200
TZOFFSETTO:+0100
TZNAME:CET
DTSTART:20221030T010000
END:STANDARD
BEGIN:DAYLIGHT
TZOFFSETFROM:+0100
TZOFFSETTO:+0200
TZNAME:CEST
DTSTART:20230326T010000
END:DAYLIGHT
BEGIN:STANDARD
TZOFFSETFROM:+0200
TZOFFSETTO:+0100
TZNAME:CET
DTSTART:20231029T010000
END:STANDARD
BEGIN:DAYLIGHT
TZOFFSETFROM:+0100
TZOFFSETTO:+0200
TZNAME:CEST
DTSTART:20240331T010000
END:DAYLIGHT
BEGIN:STANDARD
TZOFFSETFROM:+0200
TZOFFSETTO:+0100
TZNAME:CET
DTSTART:20241027T010000
END:STANDARD
BEGIN:DAYLIGHT
TZOFFSETFROM:+0100
TZOFFSETTO:+0200
TZNAME:CEST
DTSTART:20250330T010000
END:DAYLIGHT
BEGIN:STANDARD
TZOFFSETFROM:+0200
TZOFFSETTO:+0100
TZNAME:CET
DTSTART:20251026T010000
END:STANDARD
END:VTIMEZONE
BEGIN:VEVENT
DTSTART;TZID=Europe/Amsterdam:20240623T110000
DTEND;TZID=Europe/Amsterdam:20240623T160000
DTSTAMP:20260423T124744
CREATED:20240120T081153Z
LAST-MODIFIED:20240610T091634Z
UID:2585-1719140400-1719158400@www.cenbgildegeldrop.nl
SUMMARY:Excursie het Wasven
DESCRIPTION:Excursie georganiseerd door de evenementencommissie.  \nBeste gildebroeders en -zusters\, \nDe excursie staat weer voor de deur en wel op zondag 23 juni a.s.\nWe blijven deze keer dichter bij huis en wel in Eindhoven. Om precies te\nzijn bij gasterij het Wasven aan de Celebeslaan 30.\nWe starten met de h. mis in onze centrumkerk om 11.00 uur. Daarna lunchen\nwe bij het Wasven met aansluitend een rondleiding. We nemen daar dan nog\neen afzakkertje.\nDe eigen bijdrage hiervoor bedraagt € 20\,- per persoon. Voor introducés € 25\,-.\nDaarvoor krijg je dus de lunch\, rondleiding\, afzakkertje. \nDe Evenementencommissie
URL:https://www.cenbgildegeldrop.nl/evenement/excursie/
END:VEVENT
BEGIN:VEVENT
DTSTART;TZID=Europe/Amsterdam:20240615T133000
DTEND;TZID=Europe/Amsterdam:20240615T163000
DTSTAMP:20260423T124744
CREATED:20240514T070041Z
LAST-MODIFIED:20240609T063251Z
UID:2652-1718458200-1718469000@www.cenbgildegeldrop.nl
SUMMARY:Gilde zaterdag Gildehoek. Afgelast
DESCRIPTION:Gilde zaterdag Gildehoek. Afgelast ivm met te grote drukte Manege
URL:https://www.cenbgildegeldrop.nl/evenement/gilde-zaterdag-gildehoek-2/
END:VEVENT
BEGIN:VEVENT
DTSTART;TZID=Europe/Amsterdam:20240608T133000
DTEND;TZID=Europe/Amsterdam:20240608T133000
DTSTAMP:20260423T124744
CREATED:20240120T080944Z
LAST-MODIFIED:20240120T081007Z
UID:2582-1717853400-1717853400@www.cenbgildegeldrop.nl
SUMMARY:Wisselschild bij Sint Joris in Zesgehuchten
DESCRIPTION:Schieten om het gemeentelijk wisselschild bij het Sint Jorisgilde in Zesgehuchten. Aanvang ongeveer 13.30 uur. (juiste gegevens volgen) \nKlein uniform.
URL:https://www.cenbgildegeldrop.nl/evenement/wisselschild-bij-sint-joris-in-zesgehuchten/
END:VEVENT
BEGIN:VEVENT
DTSTART;TZID=Europe/Amsterdam:20240606T193000
DTEND;TZID=Europe/Amsterdam:20240606T210000
DTSTAMP:20260423T124744
CREATED:20240514T064630Z
LAST-MODIFIED:20240514T064656Z
UID:2632-1717702200-1717707600@www.cenbgildegeldrop.nl
SUMMARY:Zomeravond schietcompetitie Gildehoek 3
DESCRIPTION:Zomeravond schietcompetitie 3 \nGildehoek aanvang  19:30 uur
URL:https://www.cenbgildegeldrop.nl/evenement/zomeravond-schietcompetitie-gildehoek-2/
END:VEVENT
BEGIN:VEVENT
DTSTART;TZID=Europe/Amsterdam:20240602T120000
DTEND;TZID=Europe/Amsterdam:20240602T170000
DTSTAMP:20260423T124744
CREATED:20240118T100250Z
LAST-MODIFIED:20240516T104600Z
UID:2578-1717329600-1717347600@www.cenbgildegeldrop.nl
SUMMARY:Kring dag\, gilden van Groot Bergeijk in groot uniform
DESCRIPTION:Kring gilde dag\, gilden van Groot Bergeijk\, ongeveer 12.00 uur\,  gegevens volgen. \nin groot uniform\n  \nVoorproefje
URL:https://www.cenbgildegeldrop.nl/evenement/kring-dag-gilden-van-groot-bergeijk-in-groot-uniform/
END:VEVENT
BEGIN:VEVENT
DTSTART;TZID=Europe/Amsterdam:20240531T183000
DTEND;TZID=Europe/Amsterdam:20240531T203000
DTSTAMP:20260423T124744
CREATED:20240118T095823Z
LAST-MODIFIED:20240118T095823Z
UID:2576-1717180200-1717187400@www.cenbgildegeldrop.nl
SUMMARY:Maria mis in Den Bosch in groot uniform
DESCRIPTION:Maria mis in DenBosch\, ongeveer 18.30 uur gegevens volgen. \nin groot uniform
URL:https://www.cenbgildegeldrop.nl/evenement/maria-mis-in-den-bosch-in-groot-uniform/
END:VEVENT
BEGIN:VEVENT
DTSTART;TZID=Europe/Amsterdam:20240530T193000
DTEND;TZID=Europe/Amsterdam:20240530T210000
DTSTAMP:20260423T124744
CREATED:20240514T064749Z
LAST-MODIFIED:20240514T064749Z
UID:2635-1717097400-1717102800@www.cenbgildegeldrop.nl
SUMMARY:Zomeravond schietcompetitie Gildehoek 2
DESCRIPTION:Zomeravond schietcompetitie 2 \nGildehoek aanvang  19:30 uur
URL:https://www.cenbgildegeldrop.nl/evenement/zomeravond-schietcompetitie-gildehoek-2-2/
END:VEVENT
BEGIN:VEVENT
DTSTART;TZID=Europe/Amsterdam:20240518T133000
DTEND;TZID=Europe/Amsterdam:20240518T173000
DTSTAMP:20260423T124744
CREATED:20240110T160549Z
LAST-MODIFIED:20240110T160809Z
UID:2544-1716039000-1716053400@www.cenbgildegeldrop.nl
SUMMARY:Gilde zaterdag
DESCRIPTION:Gilde zaterdag Gildehoek. Gezellig samenzijn met schieten en/of spellen. vanaf 13.30 uur tot 16.30 uur
URL:https://www.cenbgildegeldrop.nl/evenement/gilde-zaterdag-4/
END:VEVENT
BEGIN:VEVENT
DTSTART;TZID=Europe/Amsterdam:20240516T193000
DTEND;TZID=Europe/Amsterdam:20240516T210000
DTSTAMP:20260423T124744
CREATED:20240514T064432Z
LAST-MODIFIED:20240514T064444Z
UID:2630-1715887800-1715893200@www.cenbgildegeldrop.nl
SUMMARY:Zomeravond schietcompetitie 1 Gildehoek
DESCRIPTION:Zomeravond schietcompetitie 1 \nGildehoek aanvang  19:30 uur
URL:https://www.cenbgildegeldrop.nl/evenement/zomeravond-schietcompetitie-1-gildehoek/
END:VEVENT
BEGIN:VEVENT
DTSTART;TZID=Europe/Amsterdam:20240505T130000
DTEND;TZID=Europe/Amsterdam:20240505T170000
DTSTAMP:20260423T124744
CREATED:20240118T095521Z
LAST-MODIFIED:20240118T095521Z
UID:2573-1714914000-1714928400@www.cenbgildegeldrop.nl
SUMMARY:Gilde zondag Gildehoek. Ontvangst lopers bedevaart Ommel.
DESCRIPTION:Gildezondag Gildehoek vanaf 13.00 uur tot  16.00 uur. \nOntvangst eventuele lopers bedevaart Ommel.
URL:https://www.cenbgildegeldrop.nl/evenement/gilde-zondag-gildehoek-ontvangst-lopers-bedevaart-ommel/
END:VEVENT
BEGIN:VEVENT
DTSTART;TZID=Europe/Amsterdam:20240504T190000
DTEND;TZID=Europe/Amsterdam:20240504T210000
DTSTAMP:20260423T124744
CREATED:20240118T095242Z
LAST-MODIFIED:20240118T095617Z
UID:2570-1714849200-1714856400@www.cenbgildegeldrop.nl
SUMMARY:Dodenherdenking brits ereveld Mierlo in groot uniform
DESCRIPTION:Dodenherdenking brits ereveld Mierlo\, ongeveer 19.00 uur gegevens volgen. \nin groot uniform
URL:https://www.cenbgildegeldrop.nl/evenement/dodenherdenking-brits-ereveld-mierlo/
END:VEVENT
BEGIN:VEVENT
DTSTART;TZID=Europe/Amsterdam:20240427T130000
DTEND;TZID=Europe/Amsterdam:20240427T170000
DTSTAMP:20260423T124744
CREATED:20240118T094731Z
LAST-MODIFIED:20240118T094731Z
UID:2566-1714222800-1714237200@www.cenbgildegeldrop.nl
SUMMARY:Koningsdag
DESCRIPTION:Aanvang  13.00 uur
URL:https://www.cenbgildegeldrop.nl/evenement/koningsdag-2/
END:VEVENT
BEGIN:VEVENT
DTSTART;TZID=Europe/Amsterdam:20240407T130000
DTEND;TZID=Europe/Amsterdam:20240407T170000
DTSTAMP:20260423T124744
CREATED:20240118T094903Z
LAST-MODIFIED:20240118T095000Z
UID:2568-1712494800-1712509200@www.cenbgildegeldrop.nl
SUMMARY:Gilde zondag
DESCRIPTION:Gildezondag Gildehoek vanaf 13.00 uur tot  16.00 uur.
URL:https://www.cenbgildegeldrop.nl/evenement/gilde-zondag-16/
END:VEVENT
BEGIN:VEVENT
DTSTART;TZID=Europe/Amsterdam:20240324T130000
DTEND;TZID=Europe/Amsterdam:20240324T170000
DTSTAMP:20260423T124744
CREATED:20240118T094551Z
LAST-MODIFIED:20240118T094551Z
UID:2564-1711285200-1711299600@www.cenbgildegeldrop.nl
SUMMARY:Wandeling
DESCRIPTION:Evenementencommissie\, gegevens volgen
URL:https://www.cenbgildegeldrop.nl/evenement/wandeling-2/
END:VEVENT
BEGIN:VEVENT
DTSTART;TZID=Europe/Amsterdam:20240316T133000
DTEND;TZID=Europe/Amsterdam:20240316T173000
DTSTAMP:20260423T124744
CREATED:20240110T160417Z
LAST-MODIFIED:20240110T160824Z
UID:2542-1710595800-1710610200@www.cenbgildegeldrop.nl
SUMMARY:Gilde zaterdag
DESCRIPTION:Gilde zaterdag Gildehoek. Gezellig samenzijn met schieten en/of spellen. vanaf 13.30 uur tot 16.30 uur
URL:https://www.cenbgildegeldrop.nl/evenement/gilde-zaterdag-3/
END:VEVENT
BEGIN:VEVENT
DTSTART;TZID=Europe/Amsterdam:20240310T130000
DTEND;TZID=Europe/Amsterdam:20240310T160000
DTSTAMP:20260423T124744
CREATED:20240110T161257Z
LAST-MODIFIED:20240307T151045Z
UID:2556-1710075600-1710086400@www.cenbgildegeldrop.nl
SUMMARY:Gilde zondag afgelast ivm overlijden gildebroeder en erelid Frits van Beek
DESCRIPTION:Gildezondag Gildehoek vanaf 13.00 uur tot  16.00 uur. \nAfgelast ivm Overlijden gildebroeder en erelid Frits van Beek
URL:https://www.cenbgildegeldrop.nl/evenement/gilde-zondag-15/
END:VEVENT
BEGIN:VEVENT
DTSTART;TZID=Europe/Amsterdam:20240301T200000
DTEND;TZID=Europe/Amsterdam:20240301T220000
DTSTAMP:20260423T124744
CREATED:20240110T161129Z
LAST-MODIFIED:20240110T161129Z
UID:2552-1709323200-1709330400@www.cenbgildegeldrop.nl
SUMMARY:Voorjaar ledenvergadering
DESCRIPTION:Voorjaar ledenvergadering  aanvang 20.00 uur
URL:https://www.cenbgildegeldrop.nl/evenement/voorjaar-ledenvergadering/
END:VEVENT
BEGIN:VEVENT
DTSTART;TZID=Europe/Amsterdam:20240217T133000
DTEND;TZID=Europe/Amsterdam:20240217T173000
DTSTAMP:20260423T124744
CREATED:20240110T160307Z
LAST-MODIFIED:20240110T160842Z
UID:2540-1708176600-1708191000@www.cenbgildegeldrop.nl
SUMMARY:Gilde zaterdag
DESCRIPTION:Gilde zaterdag Gildehoek. Gezellig samenzijn met schieten en/of spellen. vanaf 13.30 uur tot 16.30 uur
URL:https://www.cenbgildegeldrop.nl/evenement/gilde-zaterdag-2/
END:VEVENT
BEGIN:VEVENT
DTSTART;TZID=Europe/Amsterdam:20240204T130000
DTEND;TZID=Europe/Amsterdam:20240204T163000
DTSTAMP:20260423T124744
CREATED:20231118T105347Z
LAST-MODIFIED:20240110T160734Z
UID:2524-1707051600-1707064200@www.cenbgildegeldrop.nl
SUMMARY:Gildezondag
DESCRIPTION:Gildezondag Gildehoek vanaf 13.00 uur tot  16.00 uur.
URL:https://www.cenbgildegeldrop.nl/evenement/gildezondag-3/
END:VEVENT
BEGIN:VEVENT
DTSTART;TZID=Europe/Amsterdam:20240120T133000
DTEND;TZID=Europe/Amsterdam:20240120T173000
DTSTAMP:20260423T124744
CREATED:20240110T160117Z
LAST-MODIFIED:20240110T160920Z
UID:2538-1705757400-1705771800@www.cenbgildegeldrop.nl
SUMMARY:Gilde zaterdag
DESCRIPTION:Gilde zaterdag Gildehoek. Gezellig samenzijn met schieten en/of spellen. vanaf 13.30 uur tot 16.30 uur.
URL:https://www.cenbgildegeldrop.nl/evenement/gilde-zaterdag/
END:VEVENT
BEGIN:VEVENT
DTSTART;TZID=Europe/Amsterdam:20240107T130000
DTEND;TZID=Europe/Amsterdam:20240107T163000
DTSTAMP:20260423T124744
CREATED:20231118T105210Z
LAST-MODIFIED:20231118T105403Z
UID:2522-1704632400-1704645000@www.cenbgildegeldrop.nl
SUMMARY:Gildezondag
DESCRIPTION:Gildezondag Gildehoek
URL:https://www.cenbgildegeldrop.nl/evenement/gildezondag-2/
END:VEVENT
BEGIN:VEVENT
DTSTART;TZID=Europe/Amsterdam:20231231T103000
DTEND;TZID=Europe/Amsterdam:20231231T123000
DTSTAMP:20260423T124744
CREATED:20230319T093322Z
LAST-MODIFIED:20231212T081557Z
UID:2301-1704018600-1704025800@www.cenbgildegeldrop.nl
SUMMARY:Jaarafsluiting Brigidakerk groot uniform
DESCRIPTION:Jaarafsluiting Brigidakerk groot uniform   11.00 eucharistieviering
URL:https://www.cenbgildegeldrop.nl/evenement/jaarafsluiting-brigidakerk-groot-uniform/
END:VEVENT
BEGIN:VEVENT
DTSTART;TZID=Europe/Amsterdam:20231217T140000
DTEND;TZID=Europe/Amsterdam:20231217T170000
DTSTAMP:20260423T124744
CREATED:20230319T093434Z
LAST-MODIFIED:20231117T081209Z
UID:2303-1702821600-1702832400@www.cenbgildegeldrop.nl
SUMMARY:Kerstviering
DESCRIPTION:Kerstviering  van 14.00 tot 17.00 uur
URL:https://www.cenbgildegeldrop.nl/evenement/kerstviering-2/
END:VEVENT
BEGIN:VEVENT
DTSTART;TZID=Europe/Amsterdam:20231214T093000
DTEND;TZID=Europe/Amsterdam:20231214T130000
DTSTAMP:20260423T124744
CREATED:20230319T093541Z
LAST-MODIFIED:20230319T093541Z
UID:2305-1702546200-1702558800@www.cenbgildegeldrop.nl
SUMMARY:Kerstversiering aanbrengen Gildehoek
DESCRIPTION:Kerstversiering aanbrengen Gildehoek
URL:https://www.cenbgildegeldrop.nl/evenement/kerstversiering-aanbrengen-gildehoek-2/
END:VEVENT
BEGIN:VEVENT
DTSTART;TZID=Europe/Amsterdam:20231203T120000
DTEND;TZID=Europe/Amsterdam:20231203T153000
DTSTAMP:20260423T124744
CREATED:20230117T151611Z
LAST-MODIFIED:20230117T151611Z
UID:2232-1701604800-1701617400@www.cenbgildegeldrop.nl
SUMMARY:Gilde Zondag
DESCRIPTION:Gilde zondag op de Gildehoek van 12.00 tm 15.30 uur
URL:https://www.cenbgildegeldrop.nl/evenement/gilde-zondag-14/
END:VEVENT
BEGIN:VEVENT
DTSTART;TZID=Europe/Amsterdam:20231118T130000
DTEND;TZID=Europe/Amsterdam:20231118T170000
DTSTAMP:20260423T124744
CREATED:20230319T093114Z
LAST-MODIFIED:20230319T093114Z
UID:2299-1700312400-1700326800@www.cenbgildegeldrop.nl
SUMMARY:Naamdag op de Gildehoek
DESCRIPTION:Naamdag op de Gildehoek gegevens volgen
URL:https://www.cenbgildegeldrop.nl/evenement/naamdag-op-de-gildehoek/
END:VEVENT
BEGIN:VEVENT
DTSTART;TZID=Europe/Amsterdam:20231117T193000
DTEND;TZID=Europe/Amsterdam:20231117T213000
DTSTAMP:20260423T124744
CREATED:20230319T092911Z
LAST-MODIFIED:20231101T071654Z
UID:2297-1700249400-1700256600@www.cenbgildegeldrop.nl
SUMMARY:Ledenvergadering najaar
DESCRIPTION:Ledenvergadering najaar
URL:https://www.cenbgildegeldrop.nl/evenement/ledenvergadering-najaar/
END:VEVENT
BEGIN:VEVENT
DTSTART;TZID=Europe/Amsterdam:20231105T120000
DTEND;TZID=Europe/Amsterdam:20231105T153000
DTSTAMP:20260423T124744
CREATED:20230117T151315Z
LAST-MODIFIED:20230117T151315Z
UID:2230-1699185600-1699198200@www.cenbgildegeldrop.nl
SUMMARY:Gilde Zondag
DESCRIPTION:Gilde zondag op de Gildehoek van 12.00 tm 15.30 uur
URL:https://www.cenbgildegeldrop.nl/evenement/gilde-zondag-6/
END:VEVENT
BEGIN:VEVENT
DTSTART;VALUE=DATE:20230906
DTEND;VALUE=DATE:20230907
DTSTAMP:20260423T124744
CREATED:20230319T092151Z
LAST-MODIFIED:20230319T092254Z
UID:2289-1693958400-1694044799@www.cenbgildegeldrop.nl
SUMMARY:Kermiswoensdag sluiting Kermis
DESCRIPTION:Kermiswoensdag sluiting Kermis programma volgt
URL:https://www.cenbgildegeldrop.nl/evenement/2289/
END:VEVENT
BEGIN:VEVENT
DTSTART;VALUE=DATE:20230905
DTEND;VALUE=DATE:20230906
DTSTAMP:20260423T124744
CREATED:20230319T092050Z
LAST-MODIFIED:20230319T092050Z
UID:2287-1693872000-1693958399@www.cenbgildegeldrop.nl
SUMMARY:Kermisdinsdag
DESCRIPTION:Kermisdinsdag programma volgt
URL:https://www.cenbgildegeldrop.nl/evenement/kermisdinsdag/
END:VEVENT
END:VCALENDAR